BEGIN:VCALENDAR
VERSION:2.0
PRODID:1a Caminhada da Freguesia
X-WR-CALNAME:1a Caminhada da Freguesia
X-WR-TIMEZONE:Europe/Lisbon
X-PUBLISHED-TTL:P1W
BEGIN:VTIMEZONE
TZID:Europe/Lisbon
X-LIC-LOCATION:Europe/Lisbon
END:VTIMEZONE
BEGIN:VEVENT
UID:69e60c12ecf8d
DTSTART;VALUE=DATE:20220724
SEQUENCE:0
TRANSP:OPAQUE
DTEND;VALUE=DATE:20220725
SUMMARY:1a Caminhada da Freguesia
CLASS:PUBLIC
DESCRIPTION:Por FronteiraInscrições na Junta de Freguesia de Fronteira1a 
 Caminhada da Freguesia de Fronteira
X-MICROSOFT-CDO-ALLDAYEVENT:TRUE
DTSTAMP:20260420T112051Z
END:VEVENT
END:VCALENDAR