BEGIN:VCALENDAR
VERSION:2.0
PRODID:Comemorações do 25 de Abril
X-WR-CALNAME:Comemorações do 25 de Abril
X-WR-TIMEZONE:Europe/Lisbon
X-PUBLISHED-TTL:P1W
BEGIN:VTIMEZONE
TZID:Europe/Lisbon
X-LIC-LOCATION:Europe/Lisbon
END:VTIMEZONE
BEGIN:VEVENT
UID:69e60bd8bc046
DTSTART;VALUE=DATE:20220424
SEQUENCE:0
TRANSP:OPAQUE
DTEND;VALUE=DATE:20220425
SUMMARY:Comemorações do 25 de Abril
CLASS:PUBLIC
DESCRIPTION:Comemorações do 25 de Abril
X-MICROSOFT-CDO-ALLDAYEVENT:TRUE
DTSTAMP:20260420T111952Z
END:VEVENT
END:VCALENDAR