BEGIN:VCALENDAR
VERSION:2.0
PRODID:Exposição Individual de Manuel Fonseca 
X-WR-CALNAME:Exposição Individual de Manuel Fonseca 
X-WR-TIMEZONE:Europe/Lisbon
X-PUBLISHED-TTL:P1W
BEGIN:VTIMEZONE
TZID:Europe/Lisbon
X-LIC-LOCATION:Europe/Lisbon
END:VTIMEZONE
BEGIN:VEVENT
UID:69e60bee128b8
DTSTART;VALUE=DATE:20221220
SEQUENCE:0
TRANSP:OPAQUE
DTEND;VALUE=DATE:20221221
SUMMARY:Exposição Individual de Manuel Fonseca 
CLASS:PUBLIC
DESCRIPTION:Exposição Individual de Manuel Fonseca \"Perspectivas\"
X-MICROSOFT-CDO-ALLDAYEVENT:TRUE
DTSTAMP:20260420T112014Z
END:VEVENT
END:VCALENDAR