BEGIN:VCALENDAR
VERSION:2.0
PRODID:Concerto de Natal - Vale de Seda
X-WR-CALNAME:Concerto de Natal - Vale de Seda
X-WR-TIMEZONE:Europe/Lisbon
X-PUBLISHED-TTL:P1W
BEGIN:VTIMEZONE
TZID:Europe/Lisbon
X-LIC-LOCATION:Europe/Lisbon
END:VTIMEZONE
BEGIN:VEVENT
UID:69e60d0c2841c
DTSTART;VALUE=DATE:20221218
SEQUENCE:0
TRANSP:OPAQUE
DTEND;VALUE=DATE:20221219
SUMMARY:Concerto de Natal - Vale de Seda
CLASS:PUBLIC
DESCRIPTION:Concerto de Natal - Vale de Seda na Igreja da Nossa Senhora da 
 Assunção.
X-MICROSOFT-CDO-ALLDAYEVENT:TRUE
DTSTAMP:20260420T112500Z
END:VEVENT
END:VCALENDAR