BEGIN:VCALENDAR
VERSION:2.0
PRODID:Eleições Presidenciais 2026
X-WR-CALNAME:Eleições Presidenciais 2026
X-WR-TIMEZONE:Europe/Lisbon
X-PUBLISHED-TTL:P1W
BEGIN:VTIMEZONE
TZID:Europe/Lisbon
X-LIC-LOCATION:Europe/Lisbon
END:VTIMEZONE
BEGIN:VEVENT
UID:69e60e5c6f4f5
DTSTART;VALUE=DATE:20260118
SEQUENCE:0
TRANSP:OPAQUE
DTEND;VALUE=DATE:20260119
SUMMARY:Eleições Presidenciais 2026
CLASS:PUBLIC
DESCRIPTION:Eleições Presidenciais 2026
X-MICROSOFT-CDO-ALLDAYEVENT:TRUE
DTSTAMP:20260420T113036Z
END:VEVENT
END:VCALENDAR