BEGIN:VCALENDAR
VERSION:2.0
PRODID:Concerto de Natal - Fronteira
X-WR-CALNAME:Concerto de Natal - Fronteira
X-WR-TIMEZONE:Europe/Lisbon
X-PUBLISHED-TTL:P1W
BEGIN:VTIMEZONE
TZID:Europe/Lisbon
X-LIC-LOCATION:Europe/Lisbon
END:VTIMEZONE
BEGIN:VEVENT
UID:69e60e99eb9bf
DTSTART;VALUE=DATE:20221217
SEQUENCE:0
TRANSP:OPAQUE
DTEND;VALUE=DATE:20221218
SUMMARY:Concerto de Natal - Fronteira
CLASS:PUBLIC
DESCRIPTION:Concerto de Natal - Fronteira na Igreja Matriz
X-MICROSOFT-CDO-ALLDAYEVENT:TRUE
DTSTAMP:20260420T113137Z
END:VEVENT
END:VCALENDAR