BEGIN:VCALENDAR
VERSION:2.0
PRODID:CONVÍVIO NO VALE DE SEDA
X-WR-CALNAME:CONVÍVIO NO VALE DE SEDA
X-WR-TIMEZONE:Europe/Lisbon
X-PUBLISHED-TTL:P1W
BEGIN:VTIMEZONE
TZID:Europe/Lisbon
X-LIC-LOCATION:Europe/Lisbon
END:VTIMEZONE
BEGIN:VEVENT
UID:69e60ad0e7741
DTSTART;VALUE=DATE:20260315
SEQUENCE:0
TRANSP:OPAQUE
DTEND;VALUE=DATE:20260316
SUMMARY:CONVÍVIO NO VALE DE SEDA
CLASS:PUBLIC
DESCRIPTION:CONVÍVIO NO VALE DE SEDA15 de março de 2026 — 15:00A comuni
 dade do Vale de Seda está convidada para um convívio aberto\, dedicado a
 o encontro\, partilha e diálogo com os habitantes da freguesia.Junta-te a
  nós para uma tarde de proximidade\, boa disposição e espírito comunit
 ário.A tua presença é importante!Local: Vale de SedaData: 15 de março 
 de 2026Hora: 15:00&nbsp\;Ver menos
X-MICROSOFT-CDO-ALLDAYEVENT:TRUE
DTSTAMP:20260420T111528Z
END:VEVENT
END:VCALENDAR