BEGIN:VCALENDAR
VERSION:2.0
PRODID:Passeio do dia da Mulher
X-WR-CALNAME:Passeio do dia da Mulher
X-WR-TIMEZONE:Europe/Lisbon
X-PUBLISHED-TTL:P1W
BEGIN:VTIMEZONE
TZID:Europe/Lisbon
X-LIC-LOCATION:Europe/Lisbon
END:VTIMEZONE
BEGIN:VEVENT
UID:69e60ad10bfe0
DTSTART;VALUE=DATE:20260314
SEQUENCE:0
TRANSP:OPAQUE
DTEND;VALUE=DATE:20260315
SUMMARY:Passeio do dia da Mulher
CLASS:PUBLIC
DESCRIPTION:Devido ao elevado número de inscrições\, a viagem está comp
 leta. Fica atento/atenta às próximas atividades.
X-MICROSOFT-CDO-ALLDAYEVENT:TRUE
DTSTAMP:20260420T111529Z
END:VEVENT
END:VCALENDAR