BEGIN:VCALENDAR
VERSION:2.0
PRODID:Homenagem aos Professores 
X-WR-CALNAME:Homenagem aos Professores 
X-WR-TIMEZONE:Europe/Lisbon
X-PUBLISHED-TTL:P1W
BEGIN:VTIMEZONE
TZID:Europe/Lisbon
X-LIC-LOCATION:Europe/Lisbon
END:VTIMEZONE
BEGIN:VEVENT
UID:69e60c12e80ad
DTSTART;VALUE=DATE:20221005
SEQUENCE:0
TRANSP:OPAQUE
DTEND;VALUE=DATE:20221006
SUMMARY:Homenagem aos Professores 
CLASS:PUBLIC
DESCRIPTION:Homenagem aos Professores e comemoração da Implementação da
  República pelas 21h do dia 05 de outubro de 2022 no salão da Junta de F
 reguesia.
X-MICROSOFT-CDO-ALLDAYEVENT:TRUE
DTSTAMP:20260420T112050Z
END:VEVENT
END:VCALENDAR