BEGIN:VCALENDAR
VERSION:2.0
PRODID:\"Perspectivas” da autoria do Sr. Manuel Fonseca
X-WR-CALNAME:\"Perspectivas” da autoria do Sr. Manuel Fonseca
X-WR-TIMEZONE:Europe/Lisbon
X-PUBLISHED-TTL:P1W
BEGIN:VTIMEZONE
TZID:Europe/Lisbon
X-LIC-LOCATION:Europe/Lisbon
END:VTIMEZONE
BEGIN:VEVENT
UID:69e60c2c2e99a
DTSTART;VALUE=DATE:20240205
SEQUENCE:0
TRANSP:OPAQUE
DTEND;VALUE=DATE:20240206
SUMMARY:\"Perspectivas” da autoria do Sr. Manuel Fonseca
CLASS:PUBLIC
DESCRIPTION:A ter lugar no salão da Junta de Freguesia até 25 de Fevereir
 o uma exposição intitulada “Perspectivas” da autoria do Sr. Manuel F
 onseca de Casa Branca\, a partir do próximo dia 7 deste mês em horário 
 das 9H às 13H e das 14H às 17H no período de semana e das 14H às 17H a
 os Sábados e Domingos.
X-MICROSOFT-CDO-ALLDAYEVENT:TRUE
DTSTAMP:20260420T112116Z
END:VEVENT
END:VCALENDAR