BEGIN:VCALENDAR
VERSION:2.0
PRODID:Abertura das inscrições Academia Sénior
X-WR-CALNAME:Abertura das inscrições Academia Sénior
X-WR-TIMEZONE:Europe/Lisbon
X-PUBLISHED-TTL:P1W
BEGIN:VTIMEZONE
TZID:Europe/Lisbon
X-LIC-LOCATION:Europe/Lisbon
END:VTIMEZONE
BEGIN:VEVENT
UID:69e60d9ea15e5
DTSTART;VALUE=DATE:20251203
SEQUENCE:0
TRANSP:OPAQUE
DTEND;VALUE=DATE:20251204
SUMMARY:Abertura das inscrições Academia Sénior
CLASS:PUBLIC
DESCRIPTION:Inscrições abertas - Academia SéniorAQUI: https://forms.gle/
 wJxZwDFi5LpfTBoa7Não há limites para aprender\, evoluir\, conhecer e viv
 er experiências únicas!A Academia Sénior marca o início desta aventura
  do saber e do fazer.Valoriza a aprendizagem ao longo da vida e o envelhec
 imento ativo\, promovendo uma cidadania ativa.✔ Tertúlias culturais✔ 
 Cantares✔ Saúde✔ Oficina de teatro✔ Literatura✔ Informática✔ G
 erontologia✔ Pintura✔ Workshops✔ E muito mais….Freguesia de Fronte
 iraMais informações e inscrições na Freguesia de Fronteira até 23 de 
 DezembroIncentivar a participação dos seniores na organização de ativi
 dades culturais\, de cidadania\, de ensino e lazer\, promover o acesso e d
 omínio das novas tecnologias de informação\, desenvolver as relações 
 interpessoais e intergeracionais e contribuir para elevar a auto estima e 
 auto confiança são outros propósitos da academia.Tertúlias\, Workshops
 \, Visitas Culturais e Projetos de Artes.
X-MICROSOFT-CDO-ALLDAYEVENT:TRUE
DTSTAMP:20260420T112726Z
END:VEVENT
END:VCALENDAR